BEGIN:VCALENDAR
VERSION:2.0
PRODID:-//Living in Tantra - ECPv6.15.20//NONSGML v1.0//EN
CALSCALE:GREGORIAN
METHOD:PUBLISH
X-ORIGINAL-URL:https://livingintantra.com
X-WR-CALDESC:Events for Living in Tantra
REFRESH-INTERVAL;VALUE=DURATION:PT1H
X-Robots-Tag:noindex
X-PUBLISHED-TTL:PT1H
BEGIN:VTIMEZONE
TZID:America/Denver
BEGIN:DAYLIGHT
TZOFFSETFROM:-0700
TZOFFSETTO:-0600
TZNAME:MDT
DTSTART:20240310T090000
END:DAYLIGHT
BEGIN:STANDARD
TZOFFSETFROM:-0600
TZOFFSETTO:-0700
TZNAME:MST
DTSTART:20241103T080000
END:STANDARD
BEGIN:DAYLIGHT
TZOFFSETFROM:-0700
TZOFFSETTO:-0600
TZNAME:MDT
DTSTART:20250309T090000
END:DAYLIGHT
BEGIN:STANDARD
TZOFFSETFROM:-0600
TZOFFSETTO:-0700
TZNAME:MST
DTSTART:20251102T080000
END:STANDARD
BEGIN:DAYLIGHT
TZOFFSETFROM:-0700
TZOFFSETTO:-0600
TZNAME:MDT
DTSTART:20260308T090000
END:DAYLIGHT
BEGIN:STANDARD
TZOFFSETFROM:-0600
TZOFFSETTO:-0700
TZNAME:MST
DTSTART:20261101T080000
END:STANDARD
END:VTIMEZONE
BEGIN:VEVENT
DTSTART;TZID=America/Denver:20250112T080000
DTEND;TZID=America/Denver:20250119T170000
DTSTAMP:20260424T144106
CREATED:20240730T195554Z
LAST-MODIFIED:20240806T191616Z
UID:9368-1736668800-1737306000@livingintantra.com
SUMMARY:Secrets of Sacred Sexuality Retreat- Tantra in the Jungle of Tulum
DESCRIPTION:Secrets of Sacred Sexuality Retreat – Tantra in the Jungle of Tulum with Judith Anne Condon and Dakini Leah\nJanuary 12-19\, 2025\nTulum\, Mexico\n \n\nWhether you come as a single or a couple\, liberate your inner wild animal and change forever your experience of sexuality\, spirituality & love within a luxury jungle eco-village guided by passionate and certified practitioners.\nAbout this Retreat\nAs a WOMAN do you long for \nshaking off the conventions that have tamed and dulled you and reclaim your innate wildness–even though you are aging? New ways of experiencing joy and pleasure by reawakening your Shakti Feminine energy? Increasing the aliveness and vitality in your body\, relationship and entire life\, to feel relaxed and radiant like a jungle flower? Moving past past hurts and disappointments in life and in love to the verdant abundance you deserve? \nAs a MAN do you long for \nintegrating your sexuality with your heart energy to blast into orgasmic expansion like a tiger? Deeply connecting with yourself and your partner in mutually satisfying orgasmic expansion and ecstasy? Moving past past hurts and disappointments in life and in love to the fruitful jungle of satisfaction? \nIf any of these elicited a resounding YES within you\, then you belong at this retreat.\nTake advantage of this rare opportunity to unleash your inner wildness and say YES! \nCarefully curated Tantric practices await you\, along with adventures and luxury accomodations in the wild jungle of Mexico. Secrets of Sacred Sexuality – Tantra in the Jungle of Tulum will change forever your experience of Sexuality\, Spirituality and Love\, giving you the opportunity to explore how your sexual energy can Heal your Body\, Open your Heart and Expand your Spirit to states of profound unity and bliss. You’ll also experience traditional Mayan culture and wild jungle excursions. Come as a single or a couple. We only have space for 24 people! So register now. \nI’m in. Sign me up! \nREGISTER\nWhere You’ll Stay\nThere’s no better place to find your inner wildness than the primal Yucatan jungle! We’re staying at Paladora\, a secluded luxury eco-village\, where comfort and green living go hand-in hand. Pristine lodging with daily maid service\, chef prepared organic meals (your preferences taken into consideration)\, mystical Jungle Adventures\, singles & couples massage and more all designed bring out your inner wild nature. \n[insert photos] \nWhat You’ll Experience\nAncient & Contemporary Tantric Practices\nTantra is an ancient Indian practice that dates back more than 5\,000 years. In Sanskrit\, the word tantra means “woven together.” Today\, the best of lovers weave together sexuality and spirituality for sizzling physical experience\, spiritual epiphany\, emotional healing\, and extraordinary intimacy–the kind of experiences we crave and need to be fully human. \nIn this retreat\, you’ll learn specific\, fully-clothed practices to heal and expand your relationship with your own sexuality first. Then\, you’ll practice the exercises with a partner. There is no nudity or genital touch during the facilitated exercises\, but back in your private room\, let all be revealed as lovers desire! These exercises provide the foundation for erotic intimacy that can last for hours. \nTell Me More about the Practices!\nImmerse yourself in a life-changing experience with an intimate group of like-hearted people. The majority of the practices involve developing awareness of Who You Are\, what you desire\, what is holding you back\, what emotional pain is in your way\, and how to heal it. We’ll use breathing\, sounds\, and movements to activate your primal creative energy with confidence and joy. You’ll gain an understanding of your inner wildness and how to let it loose for profoundly satisfying connection with yourself\, with Nature\, with the Source\, and with whomever you choose to bond. Your life will never be the same. \nThese practices include: \n\nConscious Breath\, Movements & Sound – the 3 Keys of Tantric Practice\nEncountering your Inner Lover\nOpening to Trust\, Moving past Inner Resistance\nSovereign Energy Orgasm Practice – throughout for Mastery\nSensory Awakening – A Ceremony of the Heart\nThe Genitals as a Gateway to the Divine\nTantric Massage Skills\nTantra Yoga to enhance awareness of Energy\n\nTantric Massage\nReceive it. Give it. Watch it demonstrated. Learn the techniques. Tantric massage is the essence of Tantra. Tantric massage releases participants from general expectations of sex\, as it does not involve intercourse or the traditional “give some and take some” dynamic of sex. Tantric massage offers a profound relaxation\, a safe space to completely yourself. It encourages mindfulness\, and works to release distractions\, and zero in on our bodies and their innate wisdom. Tantric massage is worship\, drawing up the receiver’s sexual energy for emotional healing and spiritual experience. You’re on retreat\, after all! \nCacao Ceremony\nNo spiritual seeker would travel to Mexico without experiencing cacao! Cacao ceremonies are wildly popular\, and you’ll be traveling to the birthplace of this phenomenal plant and its ancient ceremony! We’ll be led in an exhilarating cacao ceremony with deep reverence and authentic Mayan ritual. \nEcstatic Dance\nWhether you call it ecstatic dance\, inspired movement\, or Shakti/Shiva dancing\, this movement-based exercise unleashes your inner wildness! Can’t dance? You don’t need do. Ecstatic dance isn’t about making movements you have to learn and perfect. Instead\, it’s about embodying hypnotic music\, sinking deeply into what your flesh is telling you\, and letting your body have its way with you. Inspired by the Mayans\, you’ll find yourself moving naturally to your own rhythm with the potential to communicate directly with spirit or to just enjoy. \n\nLeisure Time\nLots. \n\nLet the jungle of Mexico with its sensual colors\, sounds\, fragrances\, and flavors pamper you as you just…reeee…laaaaax… \nDo I Need to Bring a Partner?\nNo! The beauty of this retreat is you don’t need to bring a partner. All the exercises begin with yourself–as all intimate practice does. Once you have gained some mastery\, you’ll be paired with other retreat participants (or with your partner if you bring one) to practice deeper elements. All the exercises are fully clothed and do not involve genital touch. \nHow do I Get There?\nFly into either the Cancun or Tulum Airports. We’ll pick you up when you arrive before 2 pm local time!  Arrivals after 2 pm will need to book a private taxi to Paladora. \nTell Me About the Jungle Adventures Awaiting Me!\nPlan a few days before and after the retreat to explore all of Tulum’s fascinating wild adventures! Note these adventures must be booked separately and are NOT part of your retreat fee. \nSwimming and Snorkeling at the Cenotes\nA cenote is an ancient\, hidden jungle fresh water pool. Created by meteors millions of years ago\, craters filled with the life-giving waters and host a staggering array of plants and aquatic life. Our eco-village has its a magical cenote to explore. Each cenote has its own hidden treasures to wow and delight you. Swim and snorkel in their depths and through their caverns. You’ll be greeted with an array of tropical juice drinks as you emerge to rest on their surrounding rocks. \nExplore the Ruins\nChichen Itza\, the 7th Wonder of the World\, is one of Mexico’s most well-preserved and most mysterious ancient Mayan ruins! Travel back through time as you explore one the world’s best-preserved pyramids\, El Castillo\, with its stunning masonry and eerie rock carvings. Feel the visceral energy of the temples\, pillared platforms\, and seemingly-impossibly advanced sky observatory. \nZipline\, ATV\, Rappel and Swim through the Jungle\nChoose one or combine all four to create the perfect adventure for you! The jungle is just waiting for you to explore it with the adventure that suits your style of wild. \n\nSwim with Sea Turtles\nHelp preserve sea turtles with a snorkeling tour designed to educate and thrill you! Not only will you swim with the Atlantic Ocean’s most beloved gentle giants\, you’ll be helping ensure they stay around for generations to come. \nI’m ready\, sign me up. \nREGISTER\n\nAbout Judith Anne and Dakini Leah\nJudith Anne Condon\n\n[insert bio and photo] \nDakini Leah\, CTSE\, CMedT\, B.A. Psy\n \n\nDakini Leah is a Certified Tantra Educator through the Ohonu School of Tantra; a Certified Meditation Teacher through the Meditation Organization\, and a B.A. in Psychology from the University of Kentucky. She trained directly under Carla Tara\, who is widely respected in Tantric circles for her expertise and ethics. An intuitive\, Dakini Leah combines her training with Divine guidance to provide a personalized\, highly effective therapeutic experience. Since 2013 she’s helped over a thousand couples and individuals use the power of their sacred sexual energy for healing\, intimacy and personal growth. In keeping with her lineage\, Dakini Leah is dedicated to the highest ethical practice and integrity with each and every client.  \n  \n  \nCan I book Judith Anne or Leah for a private session?\nCan I Get a Payment Plan?\nIf you are ready to experience the Magical\, Healing and Transformative power of Tantra join us in this powerful week long retreat!\nRegister with your $1000 Deposit. We will contact you for a complimentary chat\, answer all of your questions and ask some too. If for some reason Secrets of Sacred Sexuality isn’t right for you\,(this rarely happens) we’ll immediately refund your deposit. \nREGISTER\n\n  \nRefund Policy\n\nRefunds for this event are available up to 90 days in advance of January 12th \nWant to chat: \nComplimentary 30 Minute Discovery Chat via http://www.journeystobliss.com \nor message me Via this Email: JourneystoTantricBliss@gmail.com \nWarmly\, Judith Anne Condon
URL:https://livingintantra.com/event/secrets-of-sacred-sexuality-tantra-in-the-jungle-of-tulum/
CATEGORIES:In-person Tantra
ATTACH;FMTTYPE=image/png:https://livingintantra.com/wp-content/uploads/2024/07/JAC-Secrets-of-Sacred-Sexuality-with-subtitle-website-header-800-x-540-2160-x-1080-px-1.png
END:VEVENT
END:VCALENDAR